BEGIN:VCALENDAR
VERSION:2.0
PRODID:-//balletopedia - ECPv6.8.2//NONSGML v1.0//EN
CALSCALE:GREGORIAN
METHOD:PUBLISH
X-WR-CALNAME:balletopedia
X-ORIGINAL-URL:https://balletopedia.ru
X-WR-CALDESC:Мероприятия для balletopedia
REFRESH-INTERVAL;VALUE=DURATION:PT1H
X-Robots-Tag:noindex
X-PUBLISHED-TTL:PT1H
BEGIN:VTIMEZONE
TZID:UTC
BEGIN:STANDARD
TZOFFSETFROM:+0000
TZOFFSETTO:+0000
TZNAME:UTC
DTSTART:20260101T000000
END:STANDARD
END:VTIMEZONE
BEGIN:VEVENT
DTSTART;TZID=UTC:20260408T183000
DTEND;TZID=UTC:20260408T210000
DTSTAMP:20260425T202235
CREATED:20260129T094701Z
LAST-MODIFIED:20260129T094701Z
UID:30976-1775673000-1775682000@balletopedia.ru
SUMMARY:Лебединое озеро
DESCRIPTION:
URL:https://balletopedia.ru/event/sobytie-%e2%84%961-2-2-3-2-2-2-2-2-2-4-3-2-3-2-2-2-2-2-3-2-3-2-2-7-5-2-2-2-2-3-2-2-2-2-2-2-4-3-3-2-2-4/
LOCATION:Чувашский театр оперы и балета\, Чебоксары
END:VEVENT
BEGIN:VEVENT
DTSTART;TZID=UTC:20260408T190000
DTEND;TZID=UTC:20260408T210000
DTSTAMP:20260425T202235
CREATED:20260227T113507Z
LAST-MODIFIED:20260227T113507Z
UID:31123-1775674800-1775682000@balletopedia.ru
SUMMARY:Жизель
DESCRIPTION:
URL:https://balletopedia.ru/event/sobytie-%e2%84%961-2-2-3-2-2-2-2-2-2-4-4-2-2-2-2-2-3-3-3-2-2-3-2-2-2-2-2-2-2-2-2-2-2-2-2-3-2-2-2-3-2-2-2-3-3-2-2-2-3-2-7-3-2-2-2-2-3-2-2-2-2-2-2-2-2-2-2-2-2/
LOCATION:Ростовский государственный музыкальный театр\, Ростов-на-Дону
END:VEVENT
END:VCALENDAR